BEGIN:VCALENDAR
VERSION:2.0
PRODID:-//TYPO3/NONSGML News system (news)//EN
BEGIN:VEVENT
TZID:Central Europe Standard Time
UID:news-54131@ccb.relaunch.tu-dortmund.de
DTSTAMP:20250930T100137Z

DTSTART:20251020T090000
DTEND:20251022T160000


LOCATION:Schülerlabor der Fakultät CCB

DESCRIPTION:https://ccb.relaunch.tu-dortmund.de/veranstaltungsdetail/schuelerinnen-forschen-54131/
SUMMARY:Ferienprogramm Schüler*innen forschen
END:VEVENT
END:VCALENDAR
